BEGIN:VCALENDAR
VERSION:2.0
PRODID:-//AudioTheme 2.3.5
BEGIN:VEVENT
UID:urn:uuid:5a4bd54d-c01c-4101-8ea2-48bb3edae7cc
URL:https://lisatahara.com/events/amarok-ensemble-private-house-concert/
DTSTART;TZID=GMT:20180530T000000
SUMMARY:Amarok Ensemble – Private House Concert
DESCRIPTION:Brahms – Violin Sonata No. 1 in G Major
LOCATION:Private (Toronto\, Ontario)
END:VEVENT
END:VCALENDAR
