BEGIN:VCALENDAR
VERSION:2.0
PRODID:-//AudioTheme 2.3.5
BEGIN:VEVENT
UID:urn:uuid:2fac82a7-bd7b-4a37-82ad-9674da15a40f
URL:https://lisatahara.com/events/concerts-100/
DTSTART;TZID=GMT:20181201T000000
SUMMARY:2 Piano Concert
LOCATION:Private (Toronto\, Ontario)
END:VEVENT
END:VCALENDAR
