BEGIN:VCALENDAR
VERSION:2.0
PRODID:-//AudioTheme 2.3.5
BEGIN:VEVENT
UID:urn:uuid:dd397919-c513-4403-bf7d-08d59c017eef
URL:https://lisatahara.com/events/concerts-in-care-13/
DTSTART;TZID=GMT:20240909T000000
SUMMARY:Concerts in Care
DESCRIPTION:Concerts in Care - Zuhara Duo
LOCATION:Private (Toronto\, Ontario)
END:VEVENT
END:VCALENDAR
