BEGIN:VCALENDAR
VERSION:2.0
PRODID:-//AudioTheme 2.3.5
BEGIN:VEVENT
UID:urn:uuid:25c58231-bbbc-4d48-ad36-4dd2ccfa99cc
URL:https://lisatahara.com/events/gig-490/
DTSTART;TZID=GMT:20180901T000000
SUMMARY:Health Arts Society
DESCRIPTION:Health Arts Society of BC
LOCATION:Private (Vancouver\, B.C.)
END:VEVENT
END:VCALENDAR
