BEGIN:VCALENDAR
VERSION:2.0
PRODID:-//AudioTheme 2.3.5
BEGIN:VEVENT
UID:urn:uuid:7b81b7bc-e3ce-4431-906b-a7c4c051b7a3
URL:https://lisatahara.com/events/gig-504/
DTSTART;TZID=GMT:20180908T000000
SUMMARY:Health Arts Society
DESCRIPTION:Health Arts Society of BC
LOCATION:Private (New Westminster\, B.C.)
END:VEVENT
END:VCALENDAR
