BEGIN:VCALENDAR
VERSION:2.0
PRODID:-//AudioTheme 2.3.5
BEGIN:VEVENT
UID:urn:uuid:d5758b5d-6507-4383-893f-a82d28f2ae67
URL:https://lisatahara.com/events/health-arts-society-of-bc-private-concert-2/
DTSTART;TZID=GMT:20180911T000000
SUMMARY:Health Arts Society
DESCRIPTION:Health Arts Society of BC 
LOCATION:Private (North Vancouver\, B.C.)
END:VEVENT
END:VCALENDAR
