BEGIN:VCALENDAR
VERSION:2.0
PRODID:-//AudioTheme 2.3.5
BEGIN:VEVENT
UID:urn:uuid:87cc0368-f360-4769-aff0-48ca504fae4a
URL:https://lisatahara.com/events/health-arts-society-of-bc-private-concert-3/
DTSTART;TZID=GMT:20180826T000000
SUMMARY:Health Arts Society
DESCRIPTION:Health Arts Society of BC
LOCATION:Private (Vancouver\, B.C.)
END:VEVENT
END:VCALENDAR
