BEGIN:VCALENDAR
VERSION:2.0
PRODID:-//AudioTheme 2.3.5
BEGIN:VEVENT
UID:urn:uuid:f32c15cf-ea42-4426-8de0-91fcd1a61d60
URL:https://lisatahara.com/events/health-arts-society-of-bc-private-concert-4/
DTSTART;TZID=GMT:20180828T000000
SUMMARY:Health Arts Society
DESCRIPTION:Health Arts Society of BC
LOCATION:Private (Burnaby\, B.C.)
END:VEVENT
END:VCALENDAR
