BEGIN:VCALENDAR
VERSION:2.0
PRODID:-//AudioTheme 2.3.5
BEGIN:VEVENT
UID:urn:uuid:9707ca8b-ba55-439f-9c64-d5295fa7fd58
URL:https://lisatahara.com/events/health-arts-society-of-bc-private-concert-6/
DTSTART;TZID=GMT:20180907T000000
SUMMARY:Health Arts Society
DESCRIPTION:Health Arts Society of BC
LOCATION:Private (Vancouver\, B.C.)
END:VEVENT
END:VCALENDAR
