BEGIN:VCALENDAR
VERSION:2.0
PRODID:-//AudioTheme 2.3.5
BEGIN:VEVENT
UID:urn:uuid:9da04490-2c28-4652-8a0e-466708c12662
URL:https://lisatahara.com/events/health-arts-society-of-bc-private-concert-8/
DTSTART;TZID=GMT:20180910T000000
SUMMARY:Health Arts Society
DESCRIPTION:Health Arts Society of BC
LOCATION:Private (Vancouver\, B.C.)
END:VEVENT
END:VCALENDAR
