BEGIN:VCALENDAR
VERSION:2.0
PRODID:-//AudioTheme 2.3.5
BEGIN:VEVENT
UID:urn:uuid:1b383a73-c9ae-4778-a4bf-f19def070d76
URL:https://lisatahara.com/events/health-arts-society-of-bc-private-concert/
DTSTART;TZID=GMT:20180818T000000
SUMMARY:Health Arts Society
DESCRIPTION:Health Arts Society of BC  
LOCATION:Private (Vancouver\, B.C.)
END:VEVENT
END:VCALENDAR
