BEGIN:VCALENDAR
VERSION:2.0
PRODID:-//AudioTheme 2.3.5
BEGIN:VEVENT
UID:urn:uuid:a4768d1a-3f7d-4de0-a6b6-95a684acc84c
URL:https://lisatahara.com/events/health-arts-society-of-bc-violin-piano-private-concerts/
DTSTART;TZID=GMT:20180823T000000
SUMMARY:Health Arts Society
DESCRIPTION:Health Arts Society of BC
LOCATION:Private (Vancouver\, B.C.)
END:VEVENT
END:VCALENDAR
