BEGIN:VCALENDAR
VERSION:2.0
PRODID:-//AudioTheme 2.3.5
BEGIN:VEVENT
UID:urn:uuid:5cafbc9a-1a92-4045-86e8-38e5659099be
URL:https://lisatahara.com/events/health-arts-society-of-bc/
DTSTART;TZID=GMT:20180825T000000
SUMMARY:Health Arts Society
DESCRIPTION:Health Arts Society of BC
LOCATION:Private (Vancouver\, B.C.)
END:VEVENT
END:VCALENDAR
