BEGIN:VCALENDAR
VERSION:2.0
PRODID:-//AudioTheme 2.3.5
BEGIN:VEVENT
UID:urn:uuid:ba238674-c814-48e0-b991-99215ba0d2e0
URL:https://lisatahara.com/events/home-music-club-of-toronto/
DTSTART;TZID=GMT:20121014T000000
SUMMARY:Home Music Club of Toronto
DESCRIPTION:Home Music Club of Toronto
LOCATION:Private (Toronto\, Ontario)
END:VEVENT
END:VCALENDAR
