BEGIN:VCALENDAR
VERSION:2.0
PRODID:-//AudioTheme 2.3.5
BEGIN:VEVENT
UID:urn:uuid:b751ed08-3998-49fe-ad58-d9561f7c93ba
URL:https://lisatahara.com/events/mendelssohn-piano-quartet/
DTSTART;TZID=GMT:20191101T000000
SUMMARY:Mendelssohn: Piano Trio & Schubert: Piano Quintet
DESCRIPTION:Mendelssohn: Piano Trio & Schubert: Piano Quintet
LOCATION:Private (Cobourg\, Ontario)
END:VEVENT
END:VCALENDAR
