BEGIN:VCALENDAR
VERSION:2.0
PRODID:-//AudioTheme 2.3.5
BEGIN:VEVENT
UID:urn:uuid:b751ed08-3998-49fe-ad58-d9561f7c93ba
URL:https://lisatahara.com/events/mendelssohn-piano-trio-schubert-piano-quintet/
DTSTART;TZID=GMT:20230618T000000
SUMMARY:Brahms: Piano Quartet No. 1 & Mendelssohn: Piano Trio No. 1
DESCRIPTION:Brahms: Piano Quartet No. 1 & Mendelssohn: Piano Trio No. 1
LOCATION:Private (Cobourg\, Ontario)
END:VEVENT
END:VCALENDAR
