BEGIN:VCALENDAR
VERSION:2.0
PRODID:-//AudioTheme 2.3.5
BEGIN:VEVENT
UID:urn:uuid:1edd619d-b6d2-4d99-9293-0f52919638de
URL:https://lisatahara.com/events/mendelssohn-x-2-piano-trios-in-d-minor/
DTSTART;TZID=GMT:20240913T000000
SUMMARY:Mendelssohn X 2: Piano Trios in D Minor
DESCRIPTION:Mendelssohn X 2: Piano Trios in D Minor
LOCATION:Private (Toronto\, Ontario)
END:VEVENT
END:VCALENDAR
